BEGIN:VCALENDAR
VERSION:2.0
PRODID:-//wp-events-plugin.com//7.2.3.1//EN
TZID:America/Los_Angeles
X-WR-TIMEZONE:America/Los_Angeles
BEGIN:VEVENT
UID:770@tacomaago.org
DTSTART;TZID=America/Los_Angeles:20251109T163000
DTEND;TZID=America/Los_Angeles:20251109T180000
DTSTAMP:20250729T053433Z
URL:https://tacomaago.org/events/2nd-sunday-series-choral-evensong-organ-r
 ecital-2/
SUMMARY:2nd Sunday Series: Choral Evensong &amp\; Organ Recital
DESCRIPTION:The tenors and basses of the St. Luke's Chancel Choir will sing
  a service of Choral Evensong\, featuring music by David Terry\, Herbert H
 owells\, Keith Roberts\, and T. Tertius Noble. Guest organist\, Tate Addis
  (Asheville\, NC)\, will perform a short organ recital following Evensong\
 , including music by J. S. Bach\, Carl McKinley\, and C. Hubert H. Parry. 
ATTACH;FMTTYPE=image/jpeg:https://tacomaago.org/wp-content/uploads/2025/07
 /Tate-organ-suit-6.jpg
CATEGORIES:Church Services featuring Music,Organ Recitals
LOCATION:St. Luke's Memorial Episcopal Church\, 3615 N Gove St\, Tacoma\, W
 A\, 98407\, Tacoma\, United States
GEO:47.2807173;-122.49946979999999
X-APPLE-STRUCTURED-LOCATION;VALUE=URI;X-ADDRESS=3615 N Gove St\, Tacoma\, W
 A\, 98407\, Tacoma\, United States;X-APPLE-RADIUS=100;X-TITLE=St. Luke's M
 emorial Episcopal Church:geo:47.2807173,-122.49946979999999
END:VEVENT
BEGIN:VTIMEZONE
TZID:America/Los_Angeles
X-LIC-LOCATION:America/Los_Angeles
BEGIN:STANDARD
DTSTART:20251102T010000
TZOFFSETFROM:-0700
TZOFFSETTO:-0800
TZNAME:PST
END:STANDARD
END:VTIMEZONE
END:VCALENDAR