BEGIN:VCALENDAR
VERSION:2.0
PRODID:-//wp-events-plugin.com//7.2.3.1//EN
TZID:America/Los_Angeles
X-WR-TIMEZONE:America/Los_Angeles
BEGIN:VEVENT
UID:384@tacomaago.org
DTSTART;TZID=America/Los_Angeles:20220313T170000
DTEND;TZID=America/Los_Angeles:20220313T173000
DTSTAMP:20210805T225409Z
URL:https://tacomaago.org/events/a-prelude-to-evensong-michael-kleinschmid
 t-organ/
SUMMARY:A Prelude to Evensong: Michael Kleinschmidt\, organ
DESCRIPTION:Come early to Choral Evensong to enjoy a 30-minute organ recita
 l on the Noack organ featuring Michael Kleinschmidt\, Canon Musician at St
 . Mark’s Cathedral\, Seattle. This recital will lead directly into Chora
 le Evensong at 5:30 pm. A wine and cheese reception will follow Evensong i
 n the Fireside Room.\n\nhttps://epiphanyseattle.org/about-our-music/
CATEGORIES:Church Services featuring Music,Organ Recitals
LOCATION:Epiphany Episcopal Parish\, 1805 38th Ave \, Seattle\, WA\, Madron
 a/Denny Blaine\, United States
GEO:47.6180884;-122.28578119999997
X-APPLE-STRUCTURED-LOCATION;VALUE=URI;X-ADDRESS=1805 38th Ave \, Seattle\, 
 WA\, Madrona/Denny Blaine\, United States;X-APPLE-RADIUS=100;X-TITLE=Epiph
 any Episcopal Parish:geo:47.6180884,-122.28578119999997
END:VEVENT
BEGIN:VTIMEZONE
TZID:America/Los_Angeles
X-LIC-LOCATION:America/Los_Angeles
BEGIN:DAYLIGHT
DTSTART:20220313T030000
TZOFFSETFROM:-0800
TZOFFSETTO:-0700
TZNAME:PDT
END:DAYLIGHT
END:VTIMEZONE
END:VCALENDAR