BEGIN:VCALENDAR
VERSION:2.0
PRODID:-//wp-events-plugin.com//7.2.3.1//EN
TZID:America/Los_Angeles
X-WR-TIMEZONE:America/Los_Angeles
BEGIN:VEVENT
UID:589@tacomaago.org
DTSTART;TZID=America/Los_Angeles:20231203T160000
DTEND;TZID=America/Los_Angeles:20231203T173000
DTSTAMP:20231116T002734Z
URL:https://tacomaago.org/events/advent-lessons-and-carols-3/
SUMMARY:Advent Lessons and Carols
DESCRIPTION:Join the Christ Church clergy\, choir\, and organ for this beau
 tiful annual tradition of Lessons and Carols.
ATTACH;FMTTYPE=image/jpeg:https://tacomaago.org/wp-content/uploads/2023/11
 /download.jpg
CATEGORIES:Church Services featuring Music
LOCATION:Christ Episcopal Church\, 310 N K Street\, Tacoma\, WA\, 98403\, T
 acoma\, United States
GEO:47.2609114;-122.45519230000002
X-APPLE-STRUCTURED-LOCATION;VALUE=URI;X-ADDRESS=310 N K Street\, Tacoma\, W
 A\, 98403\, Tacoma\, United States;X-APPLE-RADIUS=100;X-TITLE=Christ Episc
 opal Church:geo:47.2609114,-122.45519230000002
END:VEVENT
BEGIN:VTIMEZONE
TZID:America/Los_Angeles
X-LIC-LOCATION:America/Los_Angeles
BEGIN:STANDARD
DTSTART:20231105T010000
TZOFFSETFROM:-0700
TZOFFSETTO:-0800
TZNAME:PST
END:STANDARD
END:VTIMEZONE
END:VCALENDAR