BEGIN:VCALENDAR
VERSION:2.0
PRODID:-//wp-events-plugin.com//7.2.3.1//EN
TZID:America/Los_Angeles
X-WR-TIMEZONE:America/Los_Angeles
BEGIN:VEVENT
UID:236@tacomaago.org
DTSTART;TZID=America/Los_Angeles:20190513T190000
DTEND;TZID=America/Los_Angeles:20190513T203000
DTSTAMP:20190326T015824Z
URL:https://tacomaago.org/events/ago-program-shari-shull-organ-sabbatical/
SUMMARY:AGO Program:  Shari Shull's Organ Sabbatical
DESCRIPTION:Shari Shull\, member and past dean of the Tacoma Chapter of the
  AGO\, will share a slide show travelogue from her sabbatical trip to Euro
 pe last year. Her travels included visits to some important organs in Pari
 s\, choral evensong programs in and around London\, and visits to organs i
 n Province Groningen in the Netherlands. Shari took organ lessons on seven
  historical antique organs with Stef Tuinstra\, Director of the North Neth
 erlands Organ Academy and organist at the Martini Kerk and Nieuwe Kerk in 
 Groningen. She will also share some recordings from her lessons.\n\nShari 
 holds degrees from the Oberlin College Conservatory and Trinity Lutheran S
 eminary\, and is the Minister of Music at Agnus Dei Lutheran Church in Gig
  Harbor\, WA.
CATEGORIES:Meetings,Program Meetings
LOCATION:St. Mark's Lutheran Church by the Narrows\, 6730 N. 17th St.\, Tac
 oma\, WA\, 98406\, Tacoma\, United States
GEO:47.2649239;-122.527938
X-APPLE-STRUCTURED-LOCATION;VALUE=URI;X-ADDRESS=6730 N. 17th St.\, Tacoma\,
  WA\, 98406\, Tacoma\, United States;X-APPLE-RADIUS=100;X-TITLE=St. Mark's
  Lutheran Church by the Narrows:geo:47.2649239,-122.527938
END:VEVENT
BEGIN:VTIMEZONE
TZID:America/Los_Angeles
X-LIC-LOCATION:America/Los_Angeles
BEGIN:DAYLIGHT
DTSTART:20190310T030000
TZOFFSETFROM:-0800
TZOFFSETTO:-0700
TZNAME:PDT
END:DAYLIGHT
END:VTIMEZONE
END:VCALENDAR