BEGIN:VCALENDAR
VERSION:2.0
PRODID:-//wp-events-plugin.com//7.2.3.1//EN
TZID:America/Los_Angeles
X-WR-TIMEZONE:America/Los_Angeles
BEGIN:VEVENT
UID:320@tacomaago.org
DTSTART;TZID=America/Los_Angeles:20200508T193000
DTEND;TZID=America/Los_Angeles:20200508T210000
DTSTAMP:20200427T040444Z
URL:https://tacomaago.org/events/all-bach-on-the-flentrop/
SUMMARY:All Bach On The Flentrop Organ with Michael Kleinschmidt (live stre
 am)
DESCRIPTION:LIVESTREAM: All-Bach On The Flentrop\nMICHAEL KLEINSCHMIDT\, OR
 GANIST\nRight now Bach is as essential as ever\, and the Saint Mark's Musi
 c Series is excited to be able to bring Bach to your homes through livestr
 eaming. Michael Kleinschmidt\, Canon for Cathedral Music at Saint Mark's E
 piscopal Cathedral\, will offer a 70-minute program featuring three of Bac
 h’s famous Toccatas and Fugues\, and Bach’s monumental Passacaglia. In
  addition\, Canon Kleinschmidt will offer brief commentary from the organ 
 console about the music and the Flentrop organ itself.\n\nThis concert wil
 l be livestreamed. While this is offered freely for all to enjoy\, donat
 ions in support of Saint Mark’s Music Series will be gratefully receive
 d.\n\nNote: Alex Weimann\, previously scheduled to perform this All-Bach c
 oncert\, will instead perform next season on May 14\, 2021
CATEGORIES:Organ Recitals
LOCATION:St. Mark's Episcopal Cathedral\, 1245 10th Ave East\, Seattle\, WA
 \, 98102\, Capitol Hill\, United States
GEO:47.6319322;-122.32131249999998
X-APPLE-STRUCTURED-LOCATION;VALUE=URI;X-ADDRESS=1245 10th Ave East\, Seattl
 e\, WA\, 98102\, Capitol Hill\, United States;X-APPLE-RADIUS=100;X-TITLE=S
 t. Mark's Episcopal Cathedral:geo:47.6319322,-122.32131249999998
END:VEVENT
BEGIN:VTIMEZONE
TZID:America/Los_Angeles
X-LIC-LOCATION:America/Los_Angeles
BEGIN:DAYLIGHT
DTSTART:20200308T030000
TZOFFSETFROM:-0800
TZOFFSETTO:-0700
TZNAME:PDT
END:DAYLIGHT
END:VTIMEZONE
END:VCALENDAR