BEGIN:VCALENDAR
VERSION:2.0
PRODID:-//wp-events-plugin.com//7.2.3.1//EN
TZID:America/Los_Angeles
X-WR-TIMEZONE:America/Los_Angeles
BEGIN:VEVENT
UID:702@tacomaago.org
DTSTART;TZID=America/Los_Angeles:20250402T100000
DTEND;TZID=America/Los_Angeles:20250402T110000
DTSTAMP:20250402T160555Z
URL:https://tacomaago.org/events/april-board-meeting/
SUMMARY:April Board Meeting
DESCRIPTION:We need to revise the honorarium policy to include local member
 s as members.\n\nWe need to vote on the financial SOP.\n\nWe can start off
 ering local memberships now but I would like to discuss the two local leve
 ls we're offering and determine whether the regular local membership shoul
 d automatically renew.\n\nWe need to discuss a strategy for asking lapsed 
 members to consider local memberships.\n\nWe need to continue to discuss t
 he lack of a subdean.\nOn 4/2/25 12:33 AM\, Wyatt Smith wrote:\n\nHello\, 
 Tacoma AGO Board\,\n\nI am looking forward to seeing many of you this morn
 ing for our Board meeting at 10am on Zoom. The agenda is below and the Zo
 om link is on the Tacoma AGO website event listing. If there is something 
 you would like added to the Agenda\, just let me know.\n\nAgenda:\n\nWelc
 ome\nDean’s Report\nPrograms Update\nFinances Update\nOther Business\nAd
 jorn\n\nAll best\,\nWyatt
ATTACH;FMTTYPE=image/jpeg:https://tacomaago.org/wp-content/uploads/2024/08
 /board-meeting-organ-pipes.webp
CATEGORIES:Board Meetings,Meetings
LOCATION:https://us06web.zoom.us/j/82898041897
END:VEVENT
BEGIN:VTIMEZONE
TZID:America/Los_Angeles
X-LIC-LOCATION:America/Los_Angeles
BEGIN:DAYLIGHT
DTSTART:20250309T030000
TZOFFSETFROM:-0800
TZOFFSETTO:-0700
TZNAME:PDT
END:DAYLIGHT
END:VTIMEZONE
END:VCALENDAR