BEGIN:VCALENDAR
VERSION:2.0
PRODID:-//wp-events-plugin.com//7.2.3.1//EN
TZID:America/Los_Angeles
X-WR-TIMEZONE:America/Los_Angeles
BEGIN:VEVENT
UID:249@tacomaago.org
DTSTART;TZID=America/Los_Angeles:20191105T190000
DTEND;TZID=America/Los_Angeles:20191105T210000
DTSTAMP:20190801T003520Z
URL:https://tacomaago.org/events/board-meeting-7/
SUMMARY:Board Meeting
DESCRIPTION:
CATEGORIES:Board Meetings
LOCATION:Home of Sandra and Dick Tietjen\, 4416 61st Ave West\, University 
 Place\, WA\, 98466\, University Place\, United States
GEO:47.216434;-122.51903500000003
X-APPLE-STRUCTURED-LOCATION;VALUE=URI;X-ADDRESS=4416 61st Ave West\, Univer
 sity Place\, WA\, 98466\, University Place\, United States;X-APPLE-RADIUS=
 100;X-TITLE=Home of Sandra and Dick Tietjen:geo:47.216434,-122.51903500000
 003
END:VEVENT
BEGIN:VTIMEZONE
TZID:America/Los_Angeles
X-LIC-LOCATION:America/Los_Angeles
BEGIN:STANDARD
DTSTART:20191103T010000
TZOFFSETFROM:-0700
TZOFFSETTO:-0800
TZNAME:PST
END:STANDARD
END:VTIMEZONE
END:VCALENDAR