BEGIN:VCALENDAR
VERSION:2.0
PRODID:-//wp-events-plugin.com//7.2.3.1//EN
TZID:America/Los_Angeles
X-WR-TIMEZONE:America/Los_Angeles
BEGIN:VEVENT
UID:392@tacomaago.org
DTSTART;TZID=America/Los_Angeles:20211017T173000
DTEND;TZID=America/Los_Angeles:20211017T183000
DTSTAMP:20210811T041649Z
URL:https://tacomaago.org/events/choral-evensong-6/
SUMMARY:Choral Evensong | St. Luke the Evangelist\, Observed
DESCRIPTION:Choral Evensong is one of the Anglican Communion’s particular
  gifts to the world and has found a renewed popularity among churchgoers a
 nd music lovers\, especially younger adults. The Epiphany Choir presents t
 his musical offering twice-weekly throughout the program year on Sundays a
 nd Thursdays at 5:30pm.\n\nResponses: Barnard\nPsalm: 147\nCanticles: Nobl
 e in b minor\nAnthem: Abendlied - Josef Rheinberger\n\nMore information ab
 out Epiphany and the music for this service can be found at https://epipha
 nyseattle.org/about-our-music/.\n\nAll Evensong services will be offered b
 oth in-person and online.
CATEGORIES:Church Services featuring Music
LOCATION:Epiphany Episcopal Parish\, 1805 38th Ave \, Seattle\, WA\, Madron
 a/Denny Blaine\, United States
GEO:47.6180884;-122.28578119999997
X-APPLE-STRUCTURED-LOCATION;VALUE=URI;X-ADDRESS=1805 38th Ave \, Seattle\, 
 WA\, Madrona/Denny Blaine\, United States;X-APPLE-RADIUS=100;X-TITLE=Epiph
 any Episcopal Parish:geo:47.6180884,-122.28578119999997
END:VEVENT
BEGIN:VTIMEZONE
TZID:America/Los_Angeles
X-LIC-LOCATION:America/Los_Angeles
BEGIN:DAYLIGHT
DTSTART:20210314T030000
TZOFFSETFROM:-0800
TZOFFSETTO:-0700
TZNAME:PDT
END:DAYLIGHT
END:VTIMEZONE
END:VCALENDAR