BEGIN:VCALENDAR
VERSION:2.0
PRODID:-//wp-events-plugin.com//7.2.3.1//EN
TZID:America/Los_Angeles
X-WR-TIMEZONE:America/Los_Angeles
BEGIN:VEVENT
UID:27@tacomaago.org
DTSTART;TZID=America/Los_Angeles:20170409T150000
DTEND;TZID=America/Los_Angeles:20170409T163000
DTSTAMP:20161022T220715Z
URL:https://tacomaago.org/events/curt-sather-organ-2/
SUMMARY:PLU Recital: Curt Sather\, organ
DESCRIPTION:\nTickets: $15 General Admission\, $10 Senior Citizens and Stud
 ents\,\nFor updated information\, visit our website: www.plu.edu/music\n\n
 \nCurt Sather  is currently Interim Organist &amp\; Choirmaster at St. Jo
 hn's Episcopal Church\, Olympia.  He received music degrees from Arizona
  State University and The Eastman School of Music. A 13-year tenure as Org
 anist &amp\; Choirmaster at St. Barnabas on the Desert Episcopal Church in
  Scottsdale\, Arizona saw the development of a large and varied vocal and 
 instrumental program for people of all ages and levels of musical training
 . While in Phoenix he was an accompanist for the Phoenix Boys Choir\, main
 tained a large private teaching studio for organ and piano\, and belonged 
 to numerous musical and arts organizations\, serving on the boards of seve
 ral. He has performed in the US\, Europe\, and Australia &amp\; New Zealan
 d. A CD of organ music of J. S. Bach was recorded in 2007 in Italy.\nPilgr
 image has been the focus of Dr. Sather’s life: walking twice the 600 mil
 e\, 1200-year old Camino to Santiago de Compostela across northern Spain\;
  traveling to the Holy Land\; reading the great Russian novels of Gogol\, 
 Pushkin\, Tolstoy and Dostoyevsky\; traveling twice for 4 months each arou
 nd the world on a ship\; and attending twice the Richard Wagner opera fest
 ival in Bayreuth\, Germany.\nCurt also lived for 3-1/2 years in the histor
 ic Benedictine monastery of San Miniato al Monte in Florence\, Italy\, has
  performed the complete organ works of J. S. Bach on three occasions – t
 wice over a series of 14 recitals (1995 and 2005)\, and once as a 23-hour 
 marathon to celebrate the composer’s birthday in 2006.
ATTACH;FMTTYPE=image/jpeg:https://tacomaago.org/wp-content/uploads/2016/06
 /curt_sather_2.jpg
CATEGORIES:Organ Recitals,Program Meetings
LOCATION:Lagerquist Hall Pacific Lutheran University\, 868 Wheeler St\, Tac
 oma\, WA\, 98444\, Parkland\, United States
GEO:47.146527;-122.44591200000002
X-APPLE-STRUCTURED-LOCATION;VALUE=URI;X-ADDRESS=868 Wheeler St\, Tacoma\, W
 A\, 98444\, Parkland\, United States;X-APPLE-RADIUS=100;X-TITLE=Lagerquist
  Hall Pacific Lutheran University:geo:47.146527,-122.44591200000002
END:VEVENT
BEGIN:VTIMEZONE
TZID:America/Los_Angeles
X-LIC-LOCATION:America/Los_Angeles
BEGIN:DAYLIGHT
DTSTART:20170312T030000
TZOFFSETFROM:-0800
TZOFFSETTO:-0700
TZNAME:PDT
END:DAYLIGHT
END:VTIMEZONE
END:VCALENDAR