BEGIN:VCALENDAR
VERSION:2.0
PRODID:-//wp-events-plugin.com//7.2.3.1//EN
TZID:America/Los_Angeles
X-WR-TIMEZONE:America/Los_Angeles
BEGIN:VEVENT
UID:584@tacomaago.org
DTSTART;TZID=America/Los_Angeles:20231110T193000
DTEND;TZID=America/Los_Angeles:20231110T210000
DTSTAMP:20231024T193539Z
URL:https://tacomaago.org/events/dr-wyatt-smith-in-concert/
SUMMARY:Dr. Wyatt Smith in Concert
DESCRIPTION:Join St. Luke’s Memorial’s new Music Director\, Dr. Wyatt S
 mith\, on Friday\, November 10th at 7:30 pm for an evening of engaging wor
 ks for solo organ. Dr. Smith will share works by J. S. Bach\, Felix Mendel
 ssohn\, William Lloyd Webber\, Margaret Sandresky\, and more. $20 tickets\
 , available at the door or in advance at https://secure.myvanco.com/YJWG/c
 ampaign/C-14EVF.
ATTACH;FMTTYPE=image/jpeg:https://tacomaago.org/wp-content/uploads/2023/08
 /IMG_0437-scaled-e1698175976210.jpeg
CATEGORIES:Organ Recitals
LOCATION:St. Luke's Memorial Episcopal Church\, 3615 N Gove St\, Tacoma\, W
 A\, 98407\, Tacoma\, United States
GEO:47.2807173;-122.49946979999999
X-APPLE-STRUCTURED-LOCATION;VALUE=URI;X-ADDRESS=3615 N Gove St\, Tacoma\, W
 A\, 98407\, Tacoma\, United States;X-APPLE-RADIUS=100;X-TITLE=St. Luke's M
 emorial Episcopal Church:geo:47.2807173,-122.49946979999999
END:VEVENT
BEGIN:VTIMEZONE
TZID:America/Los_Angeles
X-LIC-LOCATION:America/Los_Angeles
BEGIN:STANDARD
DTSTART:20231105T010000
TZOFFSETFROM:-0700
TZOFFSETTO:-0800
TZNAME:PST
END:STANDARD
END:VTIMEZONE
END:VCALENDAR