BEGIN:VCALENDAR
VERSION:2.0
PRODID:-//wp-events-plugin.com//7.2.3.1//EN
TZID:America/Los_Angeles
X-WR-TIMEZONE:America/Los_Angeles
BEGIN:VEVENT
UID:284@tacomaago.org
DTSTART;TZID=America/Los_Angeles:20200517T170000
DTEND;TZID=America/Los_Angeles:20200517T180000
DTSTAMP:20190821T220608Z
URL:https://tacomaago.org/events/evensong-for-rogation-sunday/
SUMMARY:Evensong for Rogation Sunday
DESCRIPTION:The Epiphany Choir will sing this service of Evensong in the Ch
 urch at Epiphany Parish\, led by Zach Hemenway and Wyatt Smith. It will fe
 ature music by Kenneth Leighton\, Herbert Howells\, and William Byrd. A wi
 ne and cheese reception will follow Evensong.
CATEGORIES:Church Services featuring Music
LOCATION:Epiphany Episcopal Parish\, 1805 38th Ave \, Seattle\, WA\, Madron
 a/Denny Blaine\, United States
GEO:47.6180884;-122.28578119999997
X-APPLE-STRUCTURED-LOCATION;VALUE=URI;X-ADDRESS=1805 38th Ave \, Seattle\, 
 WA\, Madrona/Denny Blaine\, United States;X-APPLE-RADIUS=100;X-TITLE=Epiph
 any Episcopal Parish:geo:47.6180884,-122.28578119999997
END:VEVENT
BEGIN:VTIMEZONE
TZID:America/Los_Angeles
X-LIC-LOCATION:America/Los_Angeles
BEGIN:DAYLIGHT
DTSTART:20200308T030000
TZOFFSETFROM:-0800
TZOFFSETTO:-0700
TZNAME:PDT
END:DAYLIGHT
END:VTIMEZONE
END:VCALENDAR