BEGIN:VCALENDAR
VERSION:2.0
PRODID:-//wp-events-plugin.com//7.2.3.1//EN
TZID:America/Los_Angeles
X-WR-TIMEZONE:America/Los_Angeles
BEGIN:VEVENT
UID:416@tacomaago.org
DTSTART;TZID=America/Los_Angeles:20220114T193000
DTEND;TZID=America/Los_Angeles:20220114T210000
DTSTAMP:20220102T014704Z
URL:https://tacomaago.org/events/flentrop-organ-concert-michael-kleinschmi
 dt-and-john-stuntebeck/
SUMMARY:Flentrop Organ Concert | Michael Kleinschmidt and John Stuntebeck
DESCRIPTION:\n\n\n\n\nSaint Mark's Music Series presents this concert as pa
 rt of the 2021-22 concert season.\n\nCathedral organists\, John Stuntebeck
  and Michael Kleinschmidt\, will share the playing in this program of orga
 n compositions inspired by two great songs of praise: the Magnificat (the 
 Song of Mary) and the Te Deum laudamus (“We praise you\, O God.”) The 
 program will include works by Dieterich Buxtehude\, Nicolas de Grigny\, Ra
 chel Laurin\, David Hurd\, and the world premiere of a newly commissioned 
 work by Oklahoma-based composer\, Rebecca Groom Te Velde.\n\nIn-person and
  livestream ticketing options are available. Please check back for current
  pandemic restrictions.\n\nMore information: https://saintmarks.org/music-
 arts/music-series/\n\nFull voting members (regular\, special\, dual) of th
 e Tacoma Chapter will be admitted at no charge.\n\n\n\n\n
CATEGORIES:Instrumental Concerts,Organ Recitals,Program Meetings
LOCATION:St. Mark's Episcopal Cathedral\, 1245 10th Ave East\, Seattle\, WA
 \, 98102\, Capitol Hill\, United States
GEO:47.6319322;-122.32131249999998
X-APPLE-STRUCTURED-LOCATION;VALUE=URI;X-ADDRESS=1245 10th Ave East\, Seattl
 e\, WA\, 98102\, Capitol Hill\, United States;X-APPLE-RADIUS=100;X-TITLE=S
 t. Mark's Episcopal Cathedral:geo:47.6319322,-122.32131249999998
END:VEVENT
BEGIN:VTIMEZONE
TZID:America/Los_Angeles
X-LIC-LOCATION:America/Los_Angeles
BEGIN:STANDARD
DTSTART:20211107T010000
TZOFFSETFROM:-0700
TZOFFSETTO:-0800
TZNAME:PST
END:STANDARD
END:VTIMEZONE
END:VCALENDAR