BEGIN:VCALENDAR
VERSION:2.0
PRODID:-//wp-events-plugin.com//7.2.3.1//EN
TZID:America/Los_Angeles
X-WR-TIMEZONE:America/Los_Angeles
BEGIN:VEVENT
UID:566@tacomaago.org
DTSTART;TZID=America/Los_Angeles:20240224T193000
DTEND;TZID=America/Los_Angeles:20240224T203000
DTSTAMP:20231017T203645Z
URL:https://tacomaago.org/events/hallock-at-100/
SUMMARY:Hallock at 100
DESCRIPTION:These concerts\, featuring The Compline Choir\, the Byrd Ensemb
 le\, acclaimed countertenor José Luis Muñoz\, and a parley of instrument
 s\, will launch the centenary year of Peter Hallock’s birth. Programs wi
 ll include music spanning the Renaissance to the present day\, along with 
 a selection of Hallock’s own compositions\, and a song cycle for counter
 tenor.
ATTACH;FMTTYPE=image/jpeg:https://tacomaago.org/wp-content/uploads/2023/10
 /Hallock-100-Website-Graphic.png
CATEGORIES:Choral Concerts,Instrumental Concerts,Organ Recitals
LOCATION:St. Mark's Episcopal Cathedral\, 1245 10th Ave East\, Seattle\, WA
 \, 98102\, Capitol Hill\, United States
GEO:47.6319322;-122.32131249999998
X-APPLE-STRUCTURED-LOCATION;VALUE=URI;X-ADDRESS=1245 10th Ave East\, Seattl
 e\, WA\, 98102\, Capitol Hill\, United States;X-APPLE-RADIUS=100;X-TITLE=S
 t. Mark's Episcopal Cathedral:geo:47.6319322,-122.32131249999998
END:VEVENT
BEGIN:VTIMEZONE
TZID:America/Los_Angeles
X-LIC-LOCATION:America/Los_Angeles
BEGIN:STANDARD
DTSTART:20231105T010000
TZOFFSETFROM:-0700
TZOFFSETTO:-0800
TZNAME:PST
END:STANDARD
END:VTIMEZONE
END:VCALENDAR