BEGIN:VCALENDAR
VERSION:2.0
PRODID:-//wp-events-plugin.com//7.2.3.1//EN
TZID:America/Los_Angeles
X-WR-TIMEZONE:America/Los_Angeles
BEGIN:VEVENT
UID:550@tacomaago.org
DTSTART;TZID=America/Los_Angeles:20231021T103000
DTEND;TZID=America/Los_Angeles:20231021T120000
DTSTAMP:20231019T203617Z
URL:https://tacomaago.org/events/hymn-interpretations-and-conversation-wit
 h-david-dahl/
SUMMARY:Hymn Interpretations and Conversation with David Dahl
DESCRIPTION:Join fellow AGO members around the Brombaugh organ at Christ Ch
 urch as we spend time with David Dahl and his first publication by Augsbur
 g Fortress\, “Hymn Interpretations.” This gathering will allow us to p
 lay and hear these effective works on the organ for which they were concei
 ved\, along with spoken notes from and conversation with the composer.\n\n
 Come a few minutes early for coffee\, doughnuts\, and orange juice!\n\nVie
 w or Download the program
ATTACH;FMTTYPE=image/jpeg:https://tacomaago.org/wp-content/uploads/2023/09
 /IMG_0920.jpeg
CATEGORIES:Meetings,Music Workshop,Program Meetings
LOCATION:Christ Episcopal Church\, 310 N K Street\, Tacoma\, WA\, 98403\, T
 acoma\, United States
GEO:47.2609114;-122.45519230000002
X-APPLE-STRUCTURED-LOCATION;VALUE=URI;X-ADDRESS=310 N K Street\, Tacoma\, W
 A\, 98403\, Tacoma\, United States;X-APPLE-RADIUS=100;X-TITLE=Christ Episc
 opal Church:geo:47.2609114,-122.45519230000002
END:VEVENT
BEGIN:VTIMEZONE
TZID:America/Los_Angeles
X-LIC-LOCATION:America/Los_Angeles
BEGIN:DAYLIGHT
DTSTART:20230312T030000
TZOFFSETFROM:-0800
TZOFFSETTO:-0700
TZNAME:PDT
END:DAYLIGHT
END:VTIMEZONE
END:VCALENDAR