BEGIN:VCALENDAR
VERSION:2.0
PRODID:-//wp-events-plugin.com//7.2.3.1//EN
TZID:America/Los_Angeles
X-WR-TIMEZONE:America/Los_Angeles
BEGIN:VEVENT
UID:121@tacomaago.org
DTSTART;TZID=America/Los_Angeles:20170801T193000
DTEND;TZID=America/Los_Angeles:20170801T210000
DTSTAMP:20170704T175758Z
URL:https://tacomaago.org/events/isaac-drewes-organ/
SUMMARY:Isaac Drewes\, organ
DESCRIPTION:Isaac Drewes plays the Woodberry organ at Spanaway Lutheran.  
 Admission is free\, and there is a reception following.  The program incl
 udes:\n\nSulyok: Te Deum Fantasy\nLaurin: Scherzo\nVierne: Claire de Lune\
 nBolcom: Jesus Calls Us\nBrahms: Intermezzo in A Major (from opus 76)\nLar
 sen: Veni Creator\nWillan: Epilogue
CATEGORIES:Organ Recitals
LOCATION:Spanaway Lutheran Church\, 16001 A Street South\, Spanaway\, WA\, 
 98387\, Spanaway\, United States
GEO:47.1116925;-122.43129110000001
X-APPLE-STRUCTURED-LOCATION;VALUE=URI;X-ADDRESS=16001 A Street South\, Span
 away\, WA\, 98387\, Spanaway\, United States;X-APPLE-RADIUS=100;X-TITLE=Sp
 anaway Lutheran Church:geo:47.1116925,-122.43129110000001
END:VEVENT
BEGIN:VTIMEZONE
TZID:America/Los_Angeles
X-LIC-LOCATION:America/Los_Angeles
BEGIN:DAYLIGHT
DTSTART:20170312T030000
TZOFFSETFROM:-0800
TZOFFSETTO:-0700
TZNAME:PDT
END:DAYLIGHT
END:VTIMEZONE
END:VCALENDAR