BEGIN:VCALENDAR
VERSION:2.0
PRODID:-//wp-events-plugin.com//7.2.3.1//EN
TZID:America/Los_Angeles
X-WR-TIMEZONE:America/Los_Angeles
BEGIN:VEVENT
UID:292@tacomaago.org
DTSTART;TZID=America/Los_Angeles:20200126T150000
DTEND;TZID=America/Los_Angeles:20200126T161500
DTSTAMP:20200101T194602Z
URL:https://tacomaago.org/events/michael-kleinschmidt-organ/
SUMMARY:Michael Kleinschmidt\, organ
DESCRIPTION:St. Andrew's Concert Series presents Michael Kleinschmidt\, org
 anist. A freewill offering will be collected.\nScheidt variations on Ach\,
  du feiner Reiter\nBach’s Trio on Herr Jesu Christ\nBach’s big setting
  of Christ unser Herr\nBuxtehude’s Choral-Fantasie on Wie schön leuchte
 t\nBach’s P &amp\; F in E minor (The Wedge)\nMozart Fantasy K. 608
CATEGORIES:Organ Recitals
LOCATION:St. Andrews Episcopal Church\, 7410 South 12th St.\, Tacoma\, WA\,
  98465-1500\, West End\, United States
GEO:47.2496531;-122.53637559999999
X-APPLE-STRUCTURED-LOCATION;VALUE=URI;X-ADDRESS=7410 South 12th St.\, Tacom
 a\, WA\, 98465-1500\, West End\, United States;X-APPLE-RADIUS=100;X-TITLE=
 St. Andrews Episcopal Church:geo:47.2496531,-122.53637559999999
END:VEVENT
BEGIN:VTIMEZONE
TZID:America/Los_Angeles
X-LIC-LOCATION:America/Los_Angeles
BEGIN:STANDARD
DTSTART:20191103T010000
TZOFFSETFROM:-0700
TZOFFSETTO:-0800
TZNAME:PST
END:STANDARD
END:VTIMEZONE
END:VCALENDAR