BEGIN:VCALENDAR
VERSION:2.0
PRODID:-//wp-events-plugin.com//7.2.3.1//EN
TZID:America/Los_Angeles
X-WR-TIMEZONE:America/Los_Angeles
BEGIN:VEVENT
UID:405@tacomaago.org
DTSTART;TZID=America/Los_Angeles:20211018T190000
DTEND;TZID=America/Los_Angeles:20211018T201500
DTSTAMP:20211006T032252Z
URL:https://tacomaago.org/events/more-with-less-an-introduction-to-fritts-
 organs-opus-46/
SUMMARY:More with Less:  An Introduction to Fritts Organs Opus 46
DESCRIPTION:Fritts Organs Opus 46 is installed in the chapel of Wesley Des 
 Moines\, a retirement community located between Seattle and Tacoma.   Th
 e installation is remarkable for a number of reasons\, not the least of wh
 ich is that a retirement home chose to install a tracker organ in the gall
 ery of a large chapel with a tall ceiling and excellent acoustics.  The o
 rgan has only 10 stops\, yet its warm\, robust sound fills the room.\n\nSu
 san McConnell of Wesley Foundation will talk about how the organ came to b
 e.  Paul Fritts (of Fritts Organs)\, David Dahl (Professor Emeritus at Pa
 cific Lutheran University) and Thomas Clark (organist at Wesley Homes)\, a
 nd Erik McLeod from the Fritts Shop will discuss the organ--how it came to
  be in this space\, the disposition\, voicing\, and relationship to the ro
 om. Learn about sand-casting\, pipe composition\, wood working and finishi
 ng.  David and Tom will talk about how to make the most of the available 
 stops in literature and hymn playing with musical demonstrations.\n\nA pan
 el discussion with all of the presenters will conclude this meeting during
  which the audience may ask questions.\n\nThis program is a joint meeting 
 of the Tacoma and Seattle chapters.\n\nWesley Homes requires that all visi
 tors be fully vaccinated\, without exception.  Masks covering the nose an
 d mouth are required at all times.\n\nThis event is open to members of the
  Seattle and Tacoma AGO chapters who have registered to attend.  Regretta
 bly\, the meeting is not open to the public.
CATEGORIES:Meetings,Program Meetings
LOCATION:Wesley Homes Gardens Building\, 815 S 216th St\, Des Moines\, WA\,
  98198\, Seattle\, United States
GEO:47.407626;-122.321978
X-APPLE-STRUCTURED-LOCATION;VALUE=URI;X-ADDRESS=815 S 216th St\, Des Moines
 \, WA\, 98198\, Seattle\, United States;X-APPLE-RADIUS=100;X-TITLE=Wesley 
 Homes Gardens Building:geo:47.407626,-122.321978
END:VEVENT
BEGIN:VTIMEZONE
TZID:America/Los_Angeles
X-LIC-LOCATION:America/Los_Angeles
BEGIN:DAYLIGHT
DTSTART:20210314T030000
TZOFFSETFROM:-0800
TZOFFSETTO:-0700
TZNAME:PDT
END:DAYLIGHT
END:VTIMEZONE
END:VCALENDAR