BEGIN:VCALENDAR
VERSION:2.0
PRODID:-//wp-events-plugin.com//7.2.3.1//EN
TZID:America/Los_Angeles
X-WR-TIMEZONE:America/Los_Angeles
BEGIN:VEVENT
UID:131@tacomaago.org
DTSTART;TZID=America/Los_Angeles:20170929T193000
DTEND;TZID=America/Los_Angeles:20170929T210000
DTSTAMP:20170820T234147Z
URL:https://tacomaago.org/events/national-lutheran-choir-2/
SUMMARY:National Lutheran Choir
DESCRIPTION:Jesus Christ: Yesterday\, Today\, Forever is an evening of song
  commemorating the 500th anniversary of the Reformation featuring the Nati
 onal Lutheran Choir leading a massed choir of local singers. Presented in 
 the tremendous acoustics of the Episcopal Cathedrals in Seattle and Portla
 nd\, this program features a unique assembly of hymns and choral repertoir
 e woven together to celebrate the rich treasury of music expressing the jo
 urney of the ever-reforming Church. Highlights include Martin Luther’s f
 amous hymn tune EIN FESTE BURG\, a multi-choir setting of Psalm 136 by Hei
 nrich Schütz—commissioned for the 100th anniversary of the Reformation 
 by the Lutheran Church in Germany—and hymns and repertoire from Korea\, 
 France\, South Africa\, Norway\, Hungary\, Latvia\, and the United States.
 \n\nFree and open to the public. An offering to benefit two local Lutheran
  agencies serving the homeless\, Compass Housing Alliance and Imagine Hous
 ing\, will be matched up to $20\,000 by Rick Steves.
ATTACH;FMTTYPE=image/jpeg:https://tacomaago.org/wp-content/uploads/2017/08
 /NLC-photo.png
CATEGORIES:Choral Concerts
LOCATION:St. Mark's Episcopal Cathedral\, 1245 10th Ave East\, Seattle\, WA
 \, 98102\, Capitol Hill\, United States
GEO:47.6319322;-122.32131249999998
X-APPLE-STRUCTURED-LOCATION;VALUE=URI;X-ADDRESS=1245 10th Ave East\, Seattl
 e\, WA\, 98102\, Capitol Hill\, United States;X-APPLE-RADIUS=100;X-TITLE=S
 t. Mark's Episcopal Cathedral:geo:47.6319322,-122.32131249999998
END:VEVENT
BEGIN:VTIMEZONE
TZID:America/Los_Angeles
X-LIC-LOCATION:America/Los_Angeles
BEGIN:DAYLIGHT
DTSTART:20170312T030000
TZOFFSETFROM:-0800
TZOFFSETTO:-0700
TZNAME:PDT
END:DAYLIGHT
END:VTIMEZONE
END:VCALENDAR