BEGIN:VCALENDAR
VERSION:2.0
PRODID:-//wp-events-plugin.com//7.2.3.1//EN
TZID:America/Los_Angeles
X-WR-TIMEZONE:America/Los_Angeles
BEGIN:VEVENT
UID:535@tacomaago.org
DTSTART;TZID=America/Los_Angeles:20230918T163000
DTEND;TZID=America/Los_Angeles:20230918T193000
DTSTAMP:20230831T044048Z
URL:https://tacomaago.org/events/opening-potluck-picnic/
SUMMARY:Opening Potluck Picnic
DESCRIPTION:Join us for an opening picnic in the beautiful garden of David 
 Dahl and Loi Le. We will have social time from 4:30 – 5:30\, and will pl
 an to start serving the food at 5:30.\n\nPlease bring a food item to share
  with others\, if you are able. If you can’t bring anything this year\, 
 don’t worry about it. There is always plenty! Plates\, cups\, napkins\, 
 utensils\, and beverages will be provided by the Chapter.
ATTACH;FMTTYPE=image/jpeg:https://tacomaago.org/wp-content/uploads/2022/07
 /2022-06-06-16.58.03-scaled.jpg
CATEGORIES:Meetings,Program Meetings,Social Events
LOCATION:Home of David Dahl\, 857 120th St South\, Parkland\, WA\, 98444\, 
 Parkland\, United States
GEO:47.148587;-122.445626
X-APPLE-STRUCTURED-LOCATION;VALUE=URI;X-ADDRESS=857 120th St South\, Parkla
 nd\, WA\, 98444\, Parkland\, United States;X-APPLE-RADIUS=100;X-TITLE=Home
  of David Dahl:geo:47.148587,-122.445626
END:VEVENT
BEGIN:VTIMEZONE
TZID:America/Los_Angeles
X-LIC-LOCATION:America/Los_Angeles
BEGIN:DAYLIGHT
DTSTART:20230312T030000
TZOFFSETFROM:-0800
TZOFFSETTO:-0700
TZNAME:PDT
END:DAYLIGHT
END:VTIMEZONE
END:VCALENDAR