BEGIN:VCALENDAR
VERSION:2.0
PRODID:-//wp-events-plugin.com//7.2.3.1//EN
TZID:America/Los_Angeles
X-WR-TIMEZONE:America/Los_Angeles
BEGIN:VEVENT
UID:778@tacomaago.org
DTSTART;TZID=America/Los_Angeles:20250905T120000
DTEND;TZID=America/Los_Angeles:20250905T130000
DTSTAMP:20250729T063655Z
URL:https://tacomaago.org/events/organ-at-noon-back-to-school/
SUMMARY:Organ at Noon: Back to School
DESCRIPTION:Kicking off the 2025-2026 Keyboard Series at UPS\, Dr. Wyatt Sm
 ith performs a program following teacher-student lineages\, including work
 s by Charles-Marie Widor\, Marcel Dupre\, Jeanne Demisseux\, Louis Vierne\
 , and Charles Tournemire.
ATTACH;FMTTYPE=image/jpeg:https://tacomaago.org/wp-content/uploads/2025/07
 /10555.jpg
CATEGORIES:Organ Recitals
LOCATION:Kilworth Memorial Chapel University of Puget Sound\, 1500 North 18
 th St\, Tacoma\, WA\, 98416\, UPS\, United States
GEO:47.2651095;-122.48172490000002
X-APPLE-STRUCTURED-LOCATION;VALUE=URI;X-ADDRESS=1500 North 18th St\, Tacoma
 \, WA\, 98416\, UPS\, United States;X-APPLE-RADIUS=100;X-TITLE=Kilworth Me
 morial Chapel University of Puget Sound:geo:47.2651095,-122.48172490000002
END:VEVENT
BEGIN:VTIMEZONE
TZID:America/Los_Angeles
X-LIC-LOCATION:America/Los_Angeles
BEGIN:DAYLIGHT
DTSTART:20250309T030000
TZOFFSETFROM:-0800
TZOFFSETTO:-0700
TZNAME:PDT
END:DAYLIGHT
END:VTIMEZONE
END:VCALENDAR