BEGIN:VCALENDAR
VERSION:2.0
PRODID:-//wp-events-plugin.com//7.2.3.1//EN
TZID:America/Los_Angeles
X-WR-TIMEZONE:America/Los_Angeles
BEGIN:VEVENT
UID:789@tacomaago.org
DTSTART;TZID=America/Los_Angeles:20251109T150000
DTEND;TZID=America/Los_Angeles:20251109T163000
DTSTAMP:20250902T024116Z
URL:https://tacomaago.org/events/richard-d-moe-organ-recital-series-julia-
 brown/
SUMMARY:Richard D. Moe Organ Recital Series - Julia Brown
DESCRIPTION:Julia Brown returns to the Pacific Northwest to present a progr
 am titled "Da pacem\, Domine." She will feature a work based on the chant 
 written by Wolfgang Rübsam alongside music by Mendelssohn\, Buxtehude\, a
 nd Balbastre.
ATTACH;FMTTYPE=image/jpeg:https://tacomaago.org/wp-content/uploads/2025/09
 /brown-headshot.jpg
CATEGORIES:Organ Recitals
LOCATION:Lagerquist Hall Pacific Lutheran University\, 868 Wheeler St\, Tac
 oma\, WA\, 98444\, Parkland\, United States
GEO:47.146527;-122.44591200000002
X-APPLE-STRUCTURED-LOCATION;VALUE=URI;X-ADDRESS=868 Wheeler St\, Tacoma\, W
 A\, 98444\, Parkland\, United States;X-APPLE-RADIUS=100;X-TITLE=Lagerquist
  Hall Pacific Lutheran University:geo:47.146527,-122.44591200000002
END:VEVENT
BEGIN:VTIMEZONE
TZID:America/Los_Angeles
X-LIC-LOCATION:America/Los_Angeles
BEGIN:STANDARD
DTSTART:20251102T010000
TZOFFSETFROM:-0700
TZOFFSETTO:-0800
TZNAME:PST
END:STANDARD
END:VTIMEZONE
END:VCALENDAR