BEGIN:VCALENDAR
VERSION:2.0
PRODID:-//wp-events-plugin.com//7.2.3.1//EN
TZID:America/Los_Angeles
X-WR-TIMEZONE:America/Los_Angeles
BEGIN:VEVENT
UID:435@tacomaago.org
DTSTART;TZID=America/Los_Angeles:20220313T150000
DTEND;TZID=America/Los_Angeles:20220313T163000
DTSTAMP:20220224T141558Z
URL:https://tacomaago.org/events/st-matthew-passion/
SUMMARY:St. Matthew Passion
DESCRIPTION:Harmonia presents J. S. Bach's St. Matthew Passion under the di
 rection of William White\, who presented the February 2022 program for the
  Tacoma AGO.\n\nFor more information\, and to purchase tickets\, visit the
  Harmonia website.
CATEGORIES:Choral Concerts
LOCATION:First Free Methodist Church\, 3200 3rd Ave West\, Seattle\, WA\, 9
 8119\, Seattle\, United States
GEO:47.649307;-122.360653
X-APPLE-STRUCTURED-LOCATION;VALUE=URI;X-ADDRESS=3200 3rd Ave West\, Seattle
 \, WA\, 98119\, Seattle\, United States;X-APPLE-RADIUS=100;X-TITLE=First F
 ree Methodist Church:geo:47.649307,-122.360653
END:VEVENT
BEGIN:VTIMEZONE
TZID:America/Los_Angeles
X-LIC-LOCATION:America/Los_Angeles
BEGIN:DAYLIGHT
DTSTART:20220313T030000
TZOFFSETFROM:-0800
TZOFFSETTO:-0700
TZNAME:PDT
END:DAYLIGHT
END:VTIMEZONE
END:VCALENDAR