BEGIN:VCALENDAR
VERSION:2.0
PRODID:-//wp-events-plugin.com//7.2.3.1//EN
TZID:America/Los_Angeles
X-WR-TIMEZONE:America/Los_Angeles
BEGIN:VEVENT
UID:453@tacomaago.org
DTSTART;TZID=America/Los_Angeles:20220715T193000
DTEND;TZID=America/Los_Angeles:20220715T210000
DTSTAMP:20220628T123431Z
URL:https://tacomaago.org/events/tacoma-bach-festival-wyatt-smith-organ/
SUMMARY:Tacoma Bach Festival: Wyatt Smith\, organ
DESCRIPTION:Roads to Bach: Wyatt Smith\, organ and harpsichord\n\nInternati
 onally-acclaimed organist and harpsichordist\, Wyatt Smith\, plays  BACH'S
  "GOLDBERG VARIATIONS\," and music by Bender\, Buxtehude\, Harbach\, and C
 lara Schumann in historic Kilworth Chapel. \n\nMore information
CATEGORIES:Organ Explorations,Organ Recitals
LOCATION:Kilworth Memorial Chapel University of Puget Sound\, 1500 North 18
 th St\, Tacoma\, WA\, 98416\, UPS\, United States
GEO:47.2651095;-122.48172490000002
X-APPLE-STRUCTURED-LOCATION;VALUE=URI;X-ADDRESS=1500 North 18th St\, Tacoma
 \, WA\, 98416\, UPS\, United States;X-APPLE-RADIUS=100;X-TITLE=Kilworth Me
 morial Chapel University of Puget Sound:geo:47.2651095,-122.48172490000002
END:VEVENT
BEGIN:VTIMEZONE
TZID:America/Los_Angeles
X-LIC-LOCATION:America/Los_Angeles
BEGIN:DAYLIGHT
DTSTART:20220313T030000
TZOFFSETFROM:-0800
TZOFFSETTO:-0700
TZNAME:PDT
END:DAYLIGHT
END:VTIMEZONE
END:VCALENDAR