BEGIN:VCALENDAR
VERSION:2.0
PRODID:-//wp-events-plugin.com//7.2.3.1//EN
TZID:America/Los_Angeles
X-WR-TIMEZONE:America/Los_Angeles
BEGIN:VEVENT
UID:189@tacomaago.org
DTSTART;TZID=America/Los_Angeles:20190301T193000
DTEND;TZID=America/Los_Angeles:20190301T210000
DTSTAMP:20180813T195533Z
URL:https://tacomaago.org/events/the-boston-brass/
SUMMARY:The Boston Brass
DESCRIPTION:Through their unique blend of classical arrangements and jazz s
 tandards\, Boston Brass delights audiences of all ages. Michael Kleinschmi
 dt\, organist\, will accompany. This promises to be a lively evening!\n\nF
 riday\, March 1\n\nShow 7:30 P.M. Doors 7:00 P.M\n\nGeneral Admission Tick
 ets\n\nAll Ages\n\n$20 Adult\, $15 Student / Senior\n\nArts at Saint Mark
 ’s\n1245 10th Ave E\nSeattle\, WA 98102\nweb: saintmarks.org/concerts\np
 hone: 206-323-0300 ext. 260
CATEGORIES:Instrumental Concerts,Organ Recitals
LOCATION:St. Mark's Episcopal Cathedral\, 1245 10th Ave East\, Seattle\, WA
 \, 98102\, Capitol Hill\, United States
GEO:47.6319322;-122.32131249999998
X-APPLE-STRUCTURED-LOCATION;VALUE=URI;X-ADDRESS=1245 10th Ave East\, Seattl
 e\, WA\, 98102\, Capitol Hill\, United States;X-APPLE-RADIUS=100;X-TITLE=S
 t. Mark's Episcopal Cathedral:geo:47.6319322,-122.32131249999998
END:VEVENT
BEGIN:VTIMEZONE
TZID:America/Los_Angeles
X-LIC-LOCATION:America/Los_Angeles
BEGIN:STANDARD
DTSTART:20181104T010000
TZOFFSETFROM:-0700
TZOFFSETTO:-0800
TZNAME:PST
END:STANDARD
END:VTIMEZONE
END:VCALENDAR