BEGIN:VCALENDAR
VERSION:2.0
PRODID:-//wp-events-plugin.com//7.2.3.1//EN
TZID:America/Los_Angeles
X-WR-TIMEZONE:America/Los_Angeles
BEGIN:VEVENT
UID:37@tacomaago.org
DTSTART;TZID=America/Los_Angeles:20161204T190000
DTEND;TZID=America/Los_Angeles:20161204T210000
DTSTAMP:20160712T000312Z
URL:https://tacomaago.org/events/the-esoterics-perform-sara-teasdale/
SUMMARY:The Esoterics perform Sara Teasdale
DESCRIPTION:A wintry choral journey with the Esoterics' resident composer e
 meritus\, Donald Skirvin\, celebrating his choral "love affair" with the r
 hapsodic American poetess Sara Teasdale.\n\nGeneral admission ticket price
 s are $25 at the door ($22 in advance).  Discounted admission ticket pric
 es are $18 at the door ($15 in advance) for students\, seniors\, the un(
 der)employed\, and the differently-abled.  Active singers in other choral
  groups may also attend for $15.
CATEGORIES:Choral Concerts
LOCATION:Christ Episcopal Church\, 310 N K Street\, Tacoma\, WA\, 98403\, T
 acoma\, United States
GEO:47.2609114;-122.45519230000002
X-APPLE-STRUCTURED-LOCATION;VALUE=URI;X-ADDRESS=310 N K Street\, Tacoma\, W
 A\, 98403\, Tacoma\, United States;X-APPLE-RADIUS=100;X-TITLE=Christ Episc
 opal Church:geo:47.2609114,-122.45519230000002
END:VEVENT
BEGIN:VTIMEZONE
TZID:America/Los_Angeles
X-LIC-LOCATION:America/Los_Angeles
BEGIN:STANDARD
DTSTART:20161106T010000
TZOFFSETFROM:-0700
TZOFFSETTO:-0800
TZNAME:PST
END:STANDARD
END:VTIMEZONE
END:VCALENDAR