BEGIN:VCALENDAR
VERSION:2.0
PRODID:-//wp-events-plugin.com//7.2.3.1//EN
TZID:America/Los_Angeles
X-WR-TIMEZONE:America/Los_Angeles
BEGIN:VEVENT
UID:617@tacomaago.org
DTSTART;TZID=America/Los_Angeles:20240216T121000
DTEND;TZID=America/Los_Angeles:20240216T130000
DTSTAMP:20240201T200519Z
URL:https://tacomaago.org/events/third-friday-concert-featuring-zach-lyman
 -trumpet-and-paul-tegels-organ/
SUMMARY:Third Friday Concert\, featuring Zach Lyman\, trumpet\, and Paul Te
 gels\, organ
DESCRIPTION:Join trumpeter Zach Lyman and organist Paul Tegels in a work fo
 r organ solo and organ and trumpet. Works by Krebs\, Langlais\, Bach\, and
  others.
ATTACH;FMTTYPE=image/jpeg:https://tacomaago.org/wp-content/uploads/2024/02
 /images.jpg
CATEGORIES:Instrumental Concerts,Organ Recitals
LOCATION:Christ Episcopal Church\, 310 N K Street\, Tacoma\, WA\, 98403\, T
 acoma\, United States
GEO:47.2609114;-122.45519230000002
X-APPLE-STRUCTURED-LOCATION;VALUE=URI;X-ADDRESS=310 N K Street\, Tacoma\, W
 A\, 98403\, Tacoma\, United States;X-APPLE-RADIUS=100;X-TITLE=Christ Episc
 opal Church:geo:47.2609114,-122.45519230000002
END:VEVENT
BEGIN:VTIMEZONE
TZID:America/Los_Angeles
X-LIC-LOCATION:America/Los_Angeles
BEGIN:STANDARD
DTSTART:20231105T010000
TZOFFSETFROM:-0700
TZOFFSETTO:-0800
TZNAME:PST
END:STANDARD
END:VTIMEZONE
END:VCALENDAR