BEGIN:VCALENDAR
VERSION:2.0
PRODID:-//wp-events-plugin.com//7.2.3.1//EN
TZID:America/Los_Angeles
X-WR-TIMEZONE:America/Los_Angeles
BEGIN:VEVENT
UID:521@tacomaago.org
DTSTART;TZID=America/Los_Angeles:20230721T121000
DTEND;TZID=America/Los_Angeles:20230721T130000
DTSTAMP:20230605T194612Z
URL:https://tacomaago.org/events/third-friday-concert-jonathan-young-organ
 ist/
SUMMARY:Third Friday Concert\, Jonathan Young\, organist
DESCRIPTION:Jonathan Young is Director of Music at the Catholic Church of t
 he Exaltation of the Holy Cross in Champaign\, Illinois and accompanist fo
 r the Baroque Artists of Champaign-Urbana. Originally from Moses Lake\, Wa
 shington\, Jonathan holds a Bachelor of Music degree from Pacific Lutheran
  University in Tacoma\, Washington\, a Master of Music degree from the Eas
 tman School of Music\, and completed doctoral coursework at the University
  of Illinois.
ATTACH;FMTTYPE=image/jpeg:https://tacomaago.org/wp-content/uploads/2023/05
 /jonathan_young.jpeg
CATEGORIES:Organ Recitals
LOCATION:Christ Episcopal Church\, 310 N K Street\, Tacoma\, WA\, 98403\, T
 acoma\, United States
GEO:47.2609114;-122.45519230000002
X-APPLE-STRUCTURED-LOCATION;VALUE=URI;X-ADDRESS=310 N K Street\, Tacoma\, W
 A\, 98403\, Tacoma\, United States;X-APPLE-RADIUS=100;X-TITLE=Christ Episc
 opal Church:geo:47.2609114,-122.45519230000002
END:VEVENT
BEGIN:VTIMEZONE
TZID:America/Los_Angeles
X-LIC-LOCATION:America/Los_Angeles
BEGIN:DAYLIGHT
DTSTART:20230312T030000
TZOFFSETFROM:-0800
TZOFFSETTO:-0700
TZNAME:PDT
END:DAYLIGHT
END:VTIMEZONE
END:VCALENDAR