BEGIN:VCALENDAR
VERSION:2.0
PRODID:-//wp-events-plugin.com//7.2.3.1//EN
TZID:America/Los_Angeles
X-WR-TIMEZONE:America/Los_Angeles
BEGIN:VEVENT
UID:634@tacomaago.org
DTSTART;TZID=America/Los_Angeles:20240517T121000
DTEND;TZID=America/Los_Angeles:20240517T130000
DTSTAMP:20240425T180823Z
URL:https://tacomaago.org/events/third-friday-concert-michael-kleinschmidt
 -organist/
SUMMARY:Third Friday Concert\, Michael Kleinschmidt\, organist
DESCRIPTION:On the May Third Friday at Christ Church we welcome Michael Kle
 inschmidt\, Canon for Cathedral Music at Saint Mark's Cathedral in Seattle
 . He will play works by Michael Praetorius\, JS Bach\, Phillip Glass\, Ger
 re Hancock\, Benjamin Britten\, Simon Preston\, Florence Price\, and Mariu
 s Monnikendam.\nDonations accepted.
ATTACH;FMTTYPE=image/jpeg:https://tacomaago.org/wp-content/uploads/2024/04
 /MK-e1714068477358.jpeg
CATEGORIES:Organ Recitals
LOCATION:Christ Episcopal Church\, 310 N K Street\, Tacoma\, WA\, 98403\, T
 acoma\, United States
GEO:47.2609114;-122.45519230000002
X-APPLE-STRUCTURED-LOCATION;VALUE=URI;X-ADDRESS=310 N K Street\, Tacoma\, W
 A\, 98403\, Tacoma\, United States;X-APPLE-RADIUS=100;X-TITLE=Christ Episc
 opal Church:geo:47.2609114,-122.45519230000002
END:VEVENT
BEGIN:VTIMEZONE
TZID:America/Los_Angeles
X-LIC-LOCATION:America/Los_Angeles
BEGIN:DAYLIGHT
DTSTART:20240310T030000
TZOFFSETFROM:-0800
TZOFFSETTO:-0700
TZNAME:PDT
END:DAYLIGHT
END:VTIMEZONE
END:VCALENDAR