BEGIN:VCALENDAR
VERSION:2.0
PRODID:-//wp-events-plugin.com//7.2.3.1//EN
TZID:America/Los_Angeles
X-WR-TIMEZONE:America/Los_Angeles
BEGIN:VEVENT
UID:374@tacomaago.org
DTSTART;TZID=America/Los_Angeles:20210913T163000
DTEND;TZID=America/Los_Angeles:20210913T193000
DTSTAMP:20210905T211937Z
URL:https://tacomaago.org/events/welcome-back-picnic-2021/
SUMMARY:Welcome Back Picnic 2021
DESCRIPTION:Celebrate the end of the pandemic!  Catch up with your Tacoma 
 AGO friends at our opening picnic.\n\n 	Each person is asked to bring enou
 gh food to share with others. Please bring serving utensils if those are n
 eeded for your contribution. The Chapter will provide plates\, utensils\, 
 cups\, napkins\, soft drinks and bottled water. You are welcome to bring a
  bottle of wine if you are so inclined.\n 	The picnic will be outdoors. Pl
 ease bring folding chairs if you can.  About 15 chairs are available at D
 avid's house.\n 	In the interest of the health and safety of all of our me
 mbers\, you must be fully vaccinated to attend this event. Masks are not r
 equired outdoors\, but you must bring a mask and wear it in order to go in
 to the house to use the bathroom.\n
CATEGORIES:Meetings,Program Meetings,Social Events
LOCATION:Home of David Dahl\, 857 120th St South\, Parkland\, WA\, 98444\, 
 Parkland\, United States
GEO:47.148587;-122.445626
X-APPLE-STRUCTURED-LOCATION;VALUE=URI;X-ADDRESS=857 120th St South\, Parkla
 nd\, WA\, 98444\, Parkland\, United States;X-APPLE-RADIUS=100;X-TITLE=Home
  of David Dahl:geo:47.148587,-122.445626
END:VEVENT
BEGIN:VTIMEZONE
TZID:America/Los_Angeles
X-LIC-LOCATION:America/Los_Angeles
BEGIN:DAYLIGHT
DTSTART:20210314T030000
TZOFFSETFROM:-0800
TZOFFSETTO:-0700
TZNAME:PDT
END:DAYLIGHT
END:VTIMEZONE
END:VCALENDAR