BEGIN:VCALENDAR
VERSION:2.0
PRODID:-//wp-events-plugin.com//7.2.3.1//EN
TZID:America/Los_Angeles
X-WR-TIMEZONE:America/Los_Angeles
BEGIN:VEVENT
UID:625@tacomaago.org
DTSTART;TZID=America/Los_Angeles:20240612T163000
DTEND;TZID=America/Los_Angeles:20240612T193000
DTSTAMP:20240402T050421Z
URL:https://tacomaago.org/events/year-end-gathering/
SUMMARY:Year-End Gathering
DESCRIPTION:For our year-end chapter event\, we will gather at the home of 
 Wyatt Smith for a light potluck and social time. Please bring something to
  share. The Chapter will provide drinks. After some social time\, we will 
 vote in our new Board members and thank outgoing members. 
ATTACH;FMTTYPE=image/jpeg:https://tacomaago.org/wp-content/uploads/2022/07
 /2022-06-06-17.35.22-scaled.jpg
CATEGORIES:Meetings,Program Meetings,Social Events
LOCATION:Home of Wyatt Smith\, 8703 71st Street Ct SW\, Lakewood\, WA\, 984
 98\, Lakewood\, United States
GEO:47.19234;-122.553325
X-APPLE-STRUCTURED-LOCATION;VALUE=URI;X-ADDRESS=8703 71st Street Ct SW\, La
 kewood\, WA\, 98498\, Lakewood\, United States;X-APPLE-RADIUS=100;X-TITLE=
 Home of Wyatt Smith:geo:47.19234,-122.553325
END:VEVENT
BEGIN:VTIMEZONE
TZID:America/Los_Angeles
X-LIC-LOCATION:America/Los_Angeles
BEGIN:DAYLIGHT
DTSTART:20240310T030000
TZOFFSETFROM:-0800
TZOFFSETTO:-0700
TZNAME:PDT
END:DAYLIGHT
END:VTIMEZONE
END:VCALENDAR